BEGIN:VCALENDAR
VERSION:2.0
PRODID:-//wp-events-plugin.com//7.2.3.1//EN
BEGIN:VEVENT
UID:69@oamontrealenglish.org
DTSTART;TZID=America/Toronto:20231010T183000
DTEND;TZID=America/Toronto:20231010T193000
DTSTAMP:20231001T013942Z
URL:https://oamontrealenglish.org/events/mens-newcomer-meeting/
SUMMARY:Men's Newcomer Meeting
DESCRIPTION:Second Tuesday of every month\, For newcomers or men returning 
 from relapse (Region 6 MWI)\nZoom Meeting number • 883-8724-8307.    P
 ass code • 242-990-669
END:VEVENT
BEGIN:VTIMEZONE
TZID:America/Toronto
X-LIC-LOCATION:America/Toronto
BEGIN:DAYLIGHT
DTSTART:20230312T030000
TZOFFSETFROM:-0500
TZOFFSETTO:-0400
TZNAME:EDT
END:DAYLIGHT
END:VTIMEZONE
END:VCALENDAR