BEGIN:VCALENDAR
VERSION:2.0
PRODID:-//wp-events-plugin.com//7.2.3.1//EN
BEGIN:VEVENT
UID:88@oamontrealenglish.org
DTSTART;TZID=America/Toronto:20231128T193000
DTEND;TZID=America/Toronto:20231128T203000
DTSTAMP:20231101T014520Z
URL:https://oamontrealenglish.org/events/tuesday-night-monthly-in-person-m
 eeting/
SUMMARY:Tuesday Night Monthly In-Person Meeting
DESCRIPTION:Tuesday once a month in person\n\n\n\n\nType: In person (held o
 n the last Tuesday of the month\, please call Marilyn C. for details: 514-
 686-3806)\n\nTime: 7:30pm\n\nLocation: Kensington Presbyterian Church\n\nA
 ddress: 6225 Godfrey Avenue\, NDG\, QC\, H4B 1K3\n\n\n
END:VEVENT
BEGIN:VTIMEZONE
TZID:America/Toronto
X-LIC-LOCATION:America/Toronto
BEGIN:STANDARD
DTSTART:20231105T010000
TZOFFSETFROM:-0400
TZOFFSETTO:-0500
TZNAME:EST
END:STANDARD
END:VTIMEZONE
END:VCALENDAR